BEGIN:VCALENDAR
VERSION:2.0
PRODID:-//Madison Theatre - ECPv6.15.14//NONSGML v1.0//EN
CALSCALE:GREGORIAN
METHOD:PUBLISH
X-WR-CALNAME:Madison Theatre
X-ORIGINAL-URL:https://madisontheatreny.org
X-WR-CALDESC:Events for Madison Theatre
REFRESH-INTERVAL;VALUE=DURATION:PT1H
X-Robots-Tag:noindex
X-PUBLISHED-TTL:PT1H
BEGIN:VTIMEZONE
TZID:America/New_York
BEGIN:DAYLIGHT
TZOFFSETFROM:-0500
TZOFFSETTO:-0400
TZNAME:EDT
DTSTART:20150308T070000
END:DAYLIGHT
BEGIN:STANDARD
TZOFFSETFROM:-0400
TZOFFSETTO:-0500
TZNAME:EST
DTSTART:20151101T060000
END:STANDARD
BEGIN:DAYLIGHT
TZOFFSETFROM:-0500
TZOFFSETTO:-0400
TZNAME:EDT
DTSTART:20160313T070000
END:DAYLIGHT
BEGIN:STANDARD
TZOFFSETFROM:-0400
TZOFFSETTO:-0500
TZNAME:EST
DTSTART:20161106T060000
END:STANDARD
BEGIN:DAYLIGHT
TZOFFSETFROM:-0500
TZOFFSETTO:-0400
TZNAME:EDT
DTSTART:20170312T070000
END:DAYLIGHT
BEGIN:STANDARD
TZOFFSETFROM:-0400
TZOFFSETTO:-0500
TZNAME:EST
DTSTART:20171105T060000
END:STANDARD
END:VTIMEZONE
BEGIN:VEVENT
DTSTART;TZID=America/New_York:20160925T150000
DTEND;TZID=America/New_York:20160925T150000
DTSTAMP:20260419T190845
CREATED:20160912T153427Z
LAST-MODIFIED:20160912T153427Z
UID:53-1474815600-1474815600@madisontheatreny.org
SUMMARY:Swingtime Big Band: Autumn in New York
DESCRIPTION:Come hear classics from the Great American songbook performed as only Swingtime and Director Steve Shaiman can\, including Autumn Leaves\, September Song\, Early Autumn\, Manhattan\, Sidewalks of New York\, and\, of course\, Frank Sinatra’s New York\, New York!
URL:https://madisontheatreny.org/event/swingtime-big-band-autumn-in-new-york/
ATTACH;FMTTYPE=image/jpeg:https://madisontheatreny.org/revamp/wp-content/uploads/2016/09/swingtime-big-band-autumn.jpg
END:VEVENT
BEGIN:VEVENT
DTSTART;TZID=America/New_York:20160924T200000
DTEND;TZID=America/New_York:20160924T200000
DTSTAMP:20260419T190845
CREATED:20160912T152844Z
LAST-MODIFIED:20160914T211429Z
UID:52-1474747200-1474747200@madisontheatreny.org
SUMMARY:The 50+ Comedy Tour
DESCRIPTION:Frankie PaceSNL\, AC\, Vegas\, National headliner\n				\n			\n				\n			\n				\n				Carie KaravasNational headliner; AC\, Vegas\n				\n			\n				\n			\n				\n				Bill McCartyNYC comedy scene\, AC\, Vegas\n				\n			\n				\n			\n				\n				George Rinidirect from the Long Island Comedy scene\n				\n		\n\n  \nThe 50+ Comedy Tour features a full line-up of top comedians\, with one thing in common… they are ALL over the age of 50! \nLaughter begins at 50 and we’ll prove it to you. Enjoy an evening of hilarious LIVE stand-up comedy with a full line-up of seasoned comic pros! \nThis is the Comedy Show for “mature” audiences!
URL:https://madisontheatreny.org/event/the-50-comedy-tour/
ATTACH;FMTTYPE=image/jpeg:https://madisontheatreny.org/revamp/wp-content/uploads/2016/09/50-comedy-tour-1.jpg
END:VEVENT
END:VCALENDAR